BEGIN:VCALENDAR
VERSION:2.0
PRODID:-//Your Divorce Made Simple - ECPv6.15.20//NONSGML v1.0//EN
CALSCALE:GREGORIAN
METHOD:PUBLISH
X-ORIGINAL-URL:https://yourdivorcemadesimple.com
X-WR-CALDESC:Events for Your Divorce Made Simple
REFRESH-INTERVAL;VALUE=DURATION:PT1H
X-Robots-Tag:noindex
X-PUBLISHED-TTL:PT1H
BEGIN:VTIMEZONE
TZID:UTC
BEGIN:STANDARD
TZOFFSETFROM:+0000
TZOFFSETTO:+0000
TZNAME:UTC
DTSTART:20190101T000000
END:STANDARD
END:VTIMEZONE
BEGIN:VEVENT
DTSTART;VALUE=DATE:20200914
DTEND;VALUE=DATE:20200915
DTSTAMP:20260425T120616
CREATED:20200914T054457Z
LAST-MODIFIED:20200914T054457Z
UID:4399-1600041600-1600127999@yourdivorcemadesimple.com
SUMMARY:Test Events
DESCRIPTION:This is test event
URL:https://yourdivorcemadesimple.com/event/test-events/
LOCATION:California
END:VEVENT
END:VCALENDAR